BEGIN:VCALENDAR

VERSION:2.0

PRODID:-//hacksw/handcal//NONSGML v1.0//EN

CALSCALE:GREGORIAN

BEGIN:VEVENT

DTEND:20231209T210000Z

UID:20231209T180000Z-4134@southernthunderhog.com

DTSTAMP:20260422T174902Z

DESCRIPTION:Event info: https://southernthunderhog.com/wpsthd/rsvpmaker/wra
	pping-at-dealership-7/

URL;VALUE=URI:https://southernthunderhog.com/wpsthd/rsvpmaker/wrapping-at-dealership-7/

SUMMARY:Wrapping at Dealership

DTSTART:20231209T180000Z

ORGANIZER;CN=Southern Thunder HOG:MAILTO:ballwm@southernthunderhog.com

END:VEVENT

END:VCALENDAR

