BEGIN:VCALENDAR

VERSION:2.0

PRODID:-//hacksw/handcal//NONSGML v1.0//EN

CALSCALE:GREGORIAN

BEGIN:VEVENT

DTEND:20231209T180000Z

UID:20231209T150000Z-4132@southernthunderhog.com

DTSTAMP:20260422T175152Z

DESCRIPTION:Event info: https://southernthunderhog.com/wpsthd/rsvpmaker/wra
	pping-at-dealership-6/

URL;VALUE=URI:https://southernthunderhog.com/wpsthd/rsvpmaker/wrapping-at-dealership-6/

SUMMARY:Wrapping at Dealership

DTSTART:20231209T150000Z

ORGANIZER;CN=Southern Thunder HOG:MAILTO:ballwm@southernthunderhog.com

END:VEVENT

END:VCALENDAR

