BEGIN:VCALENDAR

VERSION:2.0

PRODID:-//hacksw/handcal//NONSGML v1.0//EN

CALSCALE:GREGORIAN

BEGIN:VEVENT

DTEND:20231216T180000Z

UID:20231216T150000Z-4142@southernthunderhog.com

DTSTAMP:20260422T175025Z

DESCRIPTION:Event info: https://southernthunderhog.com/wpsthd/rsvpmaker/wra
	pping-at-dealership-11/

URL;VALUE=URI:https://southernthunderhog.com/wpsthd/rsvpmaker/wrapping-at-dealership-11/

SUMMARY:Wrapping at Dealership

DTSTART:20231216T150000Z

ORGANIZER;CN=Southern Thunder HOG:MAILTO:ballwm@southernthunderhog.com

END:VEVENT

END:VCALENDAR

