BEGIN:VCALENDAR

VERSION:2.0

PRODID:-//hacksw/handcal//NONSGML v1.0//EN

CALSCALE:GREGORIAN

BEGIN:VEVENT

DTEND:20240824T120000Z

UID:20240821T110000Z-4083@southernthunderhog.com

DTSTAMP:20260422T165826Z

DESCRIPTION:Event info: https://southernthunderhog.com/wpsthd/rsvpmaker/wil
	d-and-wonderful-h-o-g-rally-charleston-wv/

URL;VALUE=URI:https://southernthunderhog.com/wpsthd/rsvpmaker/wild-and-wonderful-h-o-g-rally-charleston-wv/

SUMMARY:Wild and Wonderful H.O.G. Rally - Charleston, WV

DTSTART:20240821T110000Z

ORGANIZER;CN=Southern Thunder HOG:MAILTO:ballwm@southernthunderhog.com

END:VEVENT

END:VCALENDAR

