BEGIN:VCALENDAR

VERSION:2.0

PRODID:-//hacksw/handcal//NONSGML v1.0//EN

CALSCALE:GREGORIAN

BEGIN:VEVENT

DTEND:20230215T023000Z

UID:20230215T003000Z-3365@southernthunderhog.com

DTSTAMP:20260422T165541Z

DESCRIPTION:Event info: https://southernthunderhog.com/wpsthd/rsvpmaker/val
	entines-dinner-ride-to-delta-steakhouse/

URL;VALUE=URI:https://southernthunderhog.com/wpsthd/rsvpmaker/valentines-dinner-ride-to-delta-steakhouse/

SUMMARY:Valentine's Dinner Ride to Delta Steakhouse

DTSTART:20230215T003000Z

ORGANIZER;CN=Southern Thunder HOG:MAILTO:ballwm@southernthunderhog.com

END:VEVENT

END:VCALENDAR

