BEGIN:VCALENDAR

VERSION:2.0

PRODID:-//hacksw/handcal//NONSGML v1.0//EN

CALSCALE:GREGORIAN

BEGIN:VEVENT

DTEND:20240527T010000Z

UID:20240523T000000Z-4052@southernthunderhog.com

DTSTAMP:20260422T182045Z

DESCRIPTION:Event info: https://southernthunderhog.com/wpsthd/rsvpmaker/tou
	r-of-valor-h-o-g-touring-rally-2/

URL;VALUE=URI:https://southernthunderhog.com/wpsthd/rsvpmaker/tour-of-valor-h-o-g-touring-rally-2/

SUMMARY:Tour of Valor H.O.G. Touring Rally

DTSTART:20240523T000000Z

ORGANIZER;CN=Southern Thunder HOG:MAILTO:ballwm@southernthunderhog.com

END:VEVENT

END:VCALENDAR

