BEGIN:VCALENDAR

VERSION:2.0

PRODID:-//hacksw/handcal//NONSGML v1.0//EN

CALSCALE:GREGORIAN

BEGIN:VEVENT

DTEND:20200307T160000Z

UID:20200307T150000Z-1767@southernthunderhog.com

DTSTAMP:20260423T233606Z

DESCRIPTION:Event info: https://southernthunderhog.com/wpsthd/rsvpmaker/the
	-levee-restaurant/

URL;VALUE=URI:https://southernthunderhog.com/wpsthd/rsvpmaker/the-levee-restaurant/

SUMMARY:The Levee Restaurant

DTSTART:20200307T150000Z

ORGANIZER;CN=Southern Thunder HOG:MAILTO:ballwm@southernthunderhog.com

END:VEVENT

END:VCALENDAR

