BEGIN:VCALENDAR

VERSION:2.0

PRODID:-//hacksw/handcal//NONSGML v1.0//EN

CALSCALE:GREGORIAN

BEGIN:VEVENT

DTEND:20241019T110000Z

UID:20241014T110000Z-4062@southernthunderhog.com

DTSTAMP:20260422T141652Z

DESCRIPTION:Event info: https://southernthunderhog.com/wpsthd/rsvpmaker/tex
	as-independence-a-premier-hog-touring-rally/

URL;VALUE=URI:https://southernthunderhog.com/wpsthd/rsvpmaker/texas-independence-a-premier-hog-touring-rally/

SUMMARY:Texas Independence, A Premier HOG Touring Rally

DTSTART:20241014T110000Z

ORGANIZER;CN=Southern Thunder HOG:MAILTO:ballwm@southernthunderhog.com

END:VEVENT

END:VCALENDAR

