BEGIN:VCALENDAR

VERSION:2.0

PRODID:-//hacksw/handcal//NONSGML v1.0//EN

CALSCALE:GREGORIAN

BEGIN:VEVENT

DTEND:20230715T130000Z

UID:20230715T120000Z-3730@southernthunderhog.com

DTSTAMP:20260423T175849Z

DESCRIPTION:Event info: https://southernthunderhog.com/wpsthd/rsvpmaker/tes
	ting/

URL;VALUE=URI:https://southernthunderhog.com/wpsthd/rsvpmaker/testing/

SUMMARY:Testing by Bill

DTSTART:20230715T120000Z

ORGANIZER;CN=Southern Thunder HOG:MAILTO:ballwm@southernthunderhog.com

END:VEVENT

END:VCALENDAR

