BEGIN:VCALENDAR

VERSION:2.0

PRODID:-//hacksw/handcal//NONSGML v1.0//EN

CALSCALE:GREGORIAN

BEGIN:VEVENT

DTEND:20240808T120000Z

UID:20240802T120000Z-4098@southernthunderhog.com

DTSTAMP:20260422T164500Z

DESCRIPTION:Event info: https://southernthunderhog.com/wpsthd/rsvpmaker/stu
	rgis-motorcycle-rally-sturgis-sd-hog-check-in/

URL;VALUE=URI:https://southernthunderhog.com/wpsthd/rsvpmaker/sturgis-motorcycle-rally-sturgis-sd-hog-check-in/

SUMMARY:Sturgis Motorcycle Rally - Sturgis, SD - HOG check in

DTSTART:20240802T120000Z

ORGANIZER;CN=Southern Thunder HOG:MAILTO:ballwm@southernthunderhog.com

END:VEVENT

END:VCALENDAR

