BEGIN:VCALENDAR

VERSION:2.0

PRODID:-//hacksw/handcal//NONSGML v1.0//EN

CALSCALE:GREGORIAN

BEGIN:VEVENT

DTEND:20210105T013000Z

UID:20210105T003000Z-1672@southernthunderhog.com

DTSTAMP:20260424T013334Z

DESCRIPTION:Event info: https://southernthunderhog.com/wpsthd/rsvpmaker/sth
	og-planning-meeting-2021-01-04/

URL;VALUE=URI:https://southernthunderhog.com/wpsthd/rsvpmaker/sthog-planning-meeting-2021-01-04/

SUMMARY:STHOG Planning Meeting

DTSTART:20210105T003000Z

ORGANIZER;CN=Southern Thunder HOG:MAILTO:ballwm@southernthunderhog.com

END:VEVENT

END:VCALENDAR

