BEGIN:VCALENDAR

VERSION:2.0

PRODID:-//hacksw/handcal//NONSGML v1.0//EN

CALSCALE:GREGORIAN

BEGIN:VEVENT

DTEND:20201103T013000Z

UID:20201103T003000Z-1670@southernthunderhog.com

DTSTAMP:20260424T013431Z

DESCRIPTION:Event info: https://southernthunderhog.com/wpsthd/rsvpmaker/sth
	og-planning-meeting-2020-11-02/

URL;VALUE=URI:https://southernthunderhog.com/wpsthd/rsvpmaker/sthog-planning-meeting-2020-11-02/

SUMMARY:STHOG Planning Meeting

DTSTART:20201103T003000Z

ORGANIZER;CN=Southern Thunder HOG:MAILTO:ballwm@southernthunderhog.com

END:VEVENT

END:VCALENDAR

