BEGIN:VCALENDAR

VERSION:2.0

PRODID:-//hacksw/handcal//NONSGML v1.0//EN

CALSCALE:GREGORIAN

BEGIN:VEVENT

DTEND:20200706T170000Z

UID:20200706T233000Z-1666@southernthunderhog.com

DTSTAMP:20260424T015302Z

DESCRIPTION:Event info: https://southernthunderhog.com/wpsthd/rsvpmaker/sth
	og-planning-meeting-2020-07-06/

URL;VALUE=URI:https://southernthunderhog.com/wpsthd/rsvpmaker/sthog-planning-meeting-2020-07-06/

SUMMARY:STHOG Planning Meeting

DTSTART:20200706T233000Z

ORGANIZER;CN=Southern Thunder HOG:MAILTO:ballwm@southernthunderhog.com

END:VEVENT

END:VCALENDAR

