BEGIN:VCALENDAR

VERSION:2.0

PRODID:-//hacksw/handcal//NONSGML v1.0//EN

CALSCALE:GREGORIAN

BEGIN:VEVENT

DTEND:20210120T010000Z

UID:20210120T000000Z-1657@southernthunderhog.com

DTSTAMP:20260423T234825Z

DESCRIPTION:Event info: https://southernthunderhog.com/wpsthd/rsvpmaker/sth
	og-monthly-meeting-2021-01-19/

URL;VALUE=URI:https://southernthunderhog.com/wpsthd/rsvpmaker/sthog-monthly-meeting-2021-01-19/

SUMMARY:STHOG Monthly Meeting

DTSTART:20210120T000000Z

ORGANIZER;CN=Southern Thunder HOG:MAILTO:ballwm@southernthunderhog.com

END:VEVENT

END:VCALENDAR

