BEGIN:VCALENDAR

VERSION:2.0

PRODID:-//hacksw/handcal//NONSGML v1.0//EN

CALSCALE:GREGORIAN

BEGIN:VEVENT

DTEND:20201216T010000Z

UID:20201216T000000Z-1656@southernthunderhog.com

DTSTAMP:20260424T020321Z

DESCRIPTION:Event info: https://southernthunderhog.com/wpsthd/rsvpmaker/sth
	og-monthly-meeting-2020-12-15/

URL;VALUE=URI:https://southernthunderhog.com/wpsthd/rsvpmaker/sthog-monthly-meeting-2020-12-15/

SUMMARY:STHOG Monthly Meeting - CANCELED

DTSTART:20201216T000000Z

ORGANIZER;CN=Southern Thunder HOG:MAILTO:ballwm@southernthunderhog.com

END:VEVENT

END:VCALENDAR

