BEGIN:VCALENDAR

VERSION:2.0

PRODID:-//hacksw/handcal//NONSGML v1.0//EN

CALSCALE:GREGORIAN

BEGIN:VEVENT

DTEND:20200916T000000Z

UID:20200915T230000Z-1653@southernthunderhog.com

DTSTAMP:20260424T032346Z

DESCRIPTION:Event info: https://southernthunderhog.com/wpsthd/rsvpmaker/sth
	og-monthly-meeting-2020-09-15/

URL;VALUE=URI:https://southernthunderhog.com/wpsthd/rsvpmaker/sthog-monthly-meeting-2020-09-15/

SUMMARY:STHOG Monthly Meeting

DTSTART:20200915T230000Z

ORGANIZER;CN=Southern Thunder HOG:MAILTO:ballwm@southernthunderhog.com

END:VEVENT

END:VCALENDAR

