BEGIN:VCALENDAR

VERSION:2.0

PRODID:-//hacksw/handcal//NONSGML v1.0//EN

CALSCALE:GREGORIAN

BEGIN:VEVENT

DTEND:20200421T170000Z

UID:20200421T230000Z-1648@southernthunderhog.com

DTSTAMP:20260423T235124Z

DESCRIPTION:Event info: https://southernthunderhog.com/wpsthd/rsvpmaker/sth
	og-monthly-meeting-2020-04-21/

URL;VALUE=URI:https://southernthunderhog.com/wpsthd/rsvpmaker/sthog-monthly-meeting-2020-04-21/

SUMMARY:STHOG Monthly Meeting

DTSTART:20200421T230000Z

ORGANIZER;CN=Southern Thunder HOG:MAILTO:ballwm@southernthunderhog.com

END:VEVENT

END:VCALENDAR

