BEGIN:VCALENDAR

VERSION:2.0

PRODID:-//hacksw/handcal//NONSGML v1.0//EN

CALSCALE:GREGORIAN

BEGIN:VEVENT

DTEND:20200218T180000Z

UID:20200219T000000Z-1646@southernthunderhog.com

DTSTAMP:20260424T001250Z

DESCRIPTION:Event info: https://southernthunderhog.com/wpsthd/rsvpmaker/sth
	og-monthly-meeting-2020-02-18/

URL;VALUE=URI:https://southernthunderhog.com/wpsthd/rsvpmaker/sthog-monthly-meeting-2020-02-18/

SUMMARY:STHOG Monthly Meeting

DTSTART:20200219T000000Z

ORGANIZER;CN=Southern Thunder HOG:MAILTO:ballwm@southernthunderhog.com

END:VEVENT

END:VCALENDAR

