BEGIN:VCALENDAR

VERSION:2.0

PRODID:-//hacksw/handcal//NONSGML v1.0//EN

CALSCALE:GREGORIAN

BEGIN:VEVENT

DTEND:20210423T010000Z

UID:20210423T000000Z-2204@southernthunderhog.com

DTSTAMP:20260423T213349Z

DESCRIPTION:Event info: https://southernthunderhog.com/wpsthd/rsvpmaker/sth
	og-chapter-monthly-meeting/

URL;VALUE=URI:https://southernthunderhog.com/wpsthd/rsvpmaker/sthog-chapter-monthly-meeting/

SUMMARY:STHOG Chapter Monthly Meeting

DTSTART:20210423T000000Z

ORGANIZER;CN=Southern Thunder HOG:MAILTO:ballwm@southernthunderhog.com

END:VEVENT

END:VCALENDAR

