BEGIN:VCALENDAR

VERSION:2.0

PRODID:-//hacksw/handcal//NONSGML v1.0//EN

CALSCALE:GREGORIAN

BEGIN:VEVENT

DTEND:20240106T200000Z

UID:20240106T170000Z-4188@southernthunderhog.com

DTSTAMP:20260422T172722Z

DESCRIPTION:Event info: https://southernthunderhog.com/wpsthd/rsvpmaker/sth
	d-welcome-back-workshop/

URL;VALUE=URI:https://southernthunderhog.com/wpsthd/rsvpmaker/sthd-welcome-back-workshop/

SUMMARY:STHD Welcome Back Workshop

DTSTART:20240106T170000Z

ORGANIZER;CN=Southern Thunder HOG:MAILTO:ballwm@southernthunderhog.com

END:VEVENT

END:VCALENDAR

