BEGIN:VCALENDAR

VERSION:2.0

PRODID:-//hacksw/handcal//NONSGML v1.0//EN

CALSCALE:GREGORIAN

BEGIN:VEVENT

DTEND:20230909T200000Z

UID:20230909T150000Z-3806@southernthunderhog.com

DTSTAMP:20260423T141758Z

DESCRIPTION:Event info: https://southernthunderhog.com/wpsthd/rsvpmaker/sth
	d-open-roads-open-house/

URL;VALUE=URI:https://southernthunderhog.com/wpsthd/rsvpmaker/sthd-open-roads-open-house/

SUMMARY:STHD - Open Roads Open House

DTSTART:20230909T150000Z

ORGANIZER;CN=Southern Thunder HOG:MAILTO:ballwm@southernthunderhog.com

END:VEVENT

END:VCALENDAR

