BEGIN:VCALENDAR

VERSION:2.0

PRODID:-//hacksw/handcal//NONSGML v1.0//EN

CALSCALE:GREGORIAN

BEGIN:VEVENT

DTEND:20240210T210000Z

UID:20240210T170000Z-4190@southernthunderhog.com

DTSTAMP:20260422T152919Z

DESCRIPTION:Event info: https://southernthunderhog.com/wpsthd/rsvpmaker/sth
	d-harley-gras/

URL;VALUE=URI:https://southernthunderhog.com/wpsthd/rsvpmaker/sthd-harley-gras/

SUMMARY:STHD Harley Gras

DTSTART:20240210T170000Z

ORGANIZER;CN=Southern Thunder HOG:MAILTO:ballwm@southernthunderhog.com

END:VEVENT

END:VCALENDAR

