BEGIN:VCALENDAR

VERSION:2.0

PRODID:-//hacksw/handcal//NONSGML v1.0//EN

CALSCALE:GREGORIAN

BEGIN:VEVENT

DTEND:20240316T210000Z

UID:20240316T140000Z-4193@southernthunderhog.com

DTSTAMP:20260422T150446Z

DESCRIPTION:Event info: https://southernthunderhog.com/wpsthd/rsvpmaker/sth
	d-going-for-the-gold/

URL;VALUE=URI:https://southernthunderhog.com/wpsthd/rsvpmaker/sthd-going-for-the-gold/

SUMMARY:STHD Going for the Gold

DTSTART:20240316T140000Z

ORGANIZER;CN=Southern Thunder HOG:MAILTO:ballwm@southernthunderhog.com

END:VEVENT

END:VCALENDAR

