BEGIN:VCALENDAR

VERSION:2.0

PRODID:-//hacksw/handcal//NONSGML v1.0//EN

CALSCALE:GREGORIAN

BEGIN:VEVENT

DTEND:20240330T190000Z

UID:20240330T160000Z-4201@southernthunderhog.com

DTSTAMP:20260422T150041Z

DESCRIPTION:Event info: https://southernthunderhog.com/wpsthd/rsvpmaker/sth
	d-easter-egg-hunt/

URL;VALUE=URI:https://southernthunderhog.com/wpsthd/rsvpmaker/sthd-easter-egg-hunt/

SUMMARY:STHD Easter Egg Hunt

DTSTART:20240330T160000Z

ORGANIZER;CN=Southern Thunder HOG:MAILTO:ballwm@southernthunderhog.com

END:VEVENT

END:VCALENDAR

