BEGIN:VCALENDAR

VERSION:2.0

PRODID:-//hacksw/handcal//NONSGML v1.0//EN

CALSCALE:GREGORIAN

BEGIN:VEVENT

DTEND:20240323T190000Z

UID:20240323T160000Z-4198@southernthunderhog.com

DTSTAMP:20260422T150500Z

DESCRIPTION:Event info: https://southernthunderhog.com/wpsthd/rsvpmaker/sth
	d-bunnies-bikes-and-brews/

URL;VALUE=URI:https://southernthunderhog.com/wpsthd/rsvpmaker/sthd-bunnies-bikes-and-brews/

SUMMARY:STHD BUNNIES, BIKES and BREWS

DTSTART:20240323T160000Z

ORGANIZER;CN=Southern Thunder HOG:MAILTO:ballwm@southernthunderhog.com

END:VEVENT

END:VCALENDAR

