BEGIN:VCALENDAR

VERSION:2.0

PRODID:-//hacksw/handcal//NONSGML v1.0//EN

CALSCALE:GREGORIAN

BEGIN:VEVENT

DTEND:20230325T180000Z

UID:20230325T140000Z-3412@southernthunderhog.com

DTSTAMP:20260422T184202Z

DESCRIPTION:Event info: https://southernthunderhog.com/wpsthd/rsvpmaker/sou
	thern-thunder-swap-meet/

URL;VALUE=URI:https://southernthunderhog.com/wpsthd/rsvpmaker/southern-thunder-swap-meet/

SUMMARY:Southern Thunder Swap Meet

DTSTART:20230325T140000Z

ORGANIZER;CN=Southern Thunder HOG:MAILTO:ballwm@southernthunderhog.com

END:VEVENT

END:VCALENDAR

