BEGIN:VCALENDAR

VERSION:2.0

PRODID:-//hacksw/handcal//NONSGML v1.0//EN

CALSCALE:GREGORIAN

BEGIN:VEVENT

DTEND:20230812T210000Z

UID:20230812T153000Z-3687@southernthunderhog.com

DTSTAMP:20260423T161400Z

DESCRIPTION:Event info: https://southernthunderhog.com/wpsthd/rsvpmaker/sou
	thern-thunder-poker-walk/

URL;VALUE=URI:https://southernthunderhog.com/wpsthd/rsvpmaker/southern-thunder-poker-walk/

SUMMARY:Southern Thunder Poker Walk

DTSTART:20230812T153000Z

ORGANIZER;CN=Southern Thunder HOG:MAILTO:ballwm@southernthunderhog.com

END:VEVENT

END:VCALENDAR

