BEGIN:VCALENDAR

VERSION:2.0

PRODID:-//hacksw/handcal//NONSGML v1.0//EN

CALSCALE:GREGORIAN

BEGIN:VEVENT

DTEND:20230603T203000Z

UID:20230603T143000Z-3601@southernthunderhog.com

DTSTAMP:20260422T181957Z

DESCRIPTION:Event info: https://southernthunderhog.com/wpsthd/rsvpmaker/sou
	thern-thunder-kickoff-to-summer-event-volunteer/

URL;VALUE=URI:https://southernthunderhog.com/wpsthd/rsvpmaker/southern-thunder-kickoff-to-summer-event-volunteer/

SUMMARY:Southern Thunder Kickoff to Summer Event - Volunteer

DTSTART:20230603T143000Z

ORGANIZER;CN=Southern Thunder HOG:MAILTO:ballwm@southernthunderhog.com

END:VEVENT

END:VCALENDAR

