BEGIN:VCALENDAR

VERSION:2.0

PRODID:-//hacksw/handcal//NONSGML v1.0//EN

CALSCALE:GREGORIAN

BEGIN:VEVENT

DTEND:20230617T210000Z

UID:20230617T150000Z-3683@southernthunderhog.com

DTSTAMP:20260423T194717Z

DESCRIPTION:Event info: https://southernthunderhog.com/wpsthd/rsvpmaker/sou
	thern-thunder-hd-bike-buying-event/

URL;VALUE=URI:https://southernthunderhog.com/wpsthd/rsvpmaker/southern-thunder-hd-bike-buying-event/

SUMMARY:Southern Thunder HD Bike Buying Event

DTSTART:20230617T150000Z

ORGANIZER;CN=Southern Thunder HOG:MAILTO:ballwm@southernthunderhog.com

END:VEVENT

END:VCALENDAR

