BEGIN:VCALENDAR

VERSION:2.0

PRODID:-//hacksw/handcal//NONSGML v1.0//EN

CALSCALE:GREGORIAN

BEGIN:VEVENT

DTEND:20230913T013000Z

UID:20230912T233000Z-3799@southernthunderhog.com

DTSTAMP:20260423T141655Z

DESCRIPTION:Event info: https://southernthunderhog.com/wpsthd/rsvpmaker/sep
	tember-dinner-ride/

URL;VALUE=URI:https://southernthunderhog.com/wpsthd/rsvpmaker/september-dinner-ride/

SUMMARY:September Dinner Ride

DTSTART:20230912T233000Z

ORGANIZER;CN=Southern Thunder HOG:MAILTO:ballwm@southernthunderhog.com

END:VEVENT

END:VCALENDAR

