BEGIN:VCALENDAR

VERSION:2.0

PRODID:-//hacksw/handcal//NONSGML v1.0//EN

CALSCALE:GREGORIAN

BEGIN:VEVENT

DTEND:20240907T110000Z

UID:20240905T110000Z-4085@southernthunderhog.com

DTSTAMP:20260422T160431Z

DESCRIPTION:Event info: https://southernthunderhog.com/wpsthd/rsvpmaker/roc
	ky-mountain-h-o-g-rally-grand-junction-co/

URL;VALUE=URI:https://southernthunderhog.com/wpsthd/rsvpmaker/rocky-mountain-h-o-g-rally-grand-junction-co/

SUMMARY:Rocky Mountain H.O.G. Rally - Grand Junction, CO

DTSTART:20240905T110000Z

ORGANIZER;CN=Southern Thunder HOG:MAILTO:ballwm@southernthunderhog.com

END:VEVENT

END:VCALENDAR

