BEGIN:VCALENDAR

VERSION:2.0

PRODID:-//hacksw/handcal//NONSGML v1.0//EN

CALSCALE:GREGORIAN

BEGIN:VEVENT

DTEND:20231016T010000Z

UID:20231014T130000Z-3842@southernthunderhog.com

DTSTAMP:20260422T182935Z

DESCRIPTION:Event info: https://southernthunderhog.com/wpsthd/rsvpmaker/rob
	ert-simmons-be-the-boss-of-your-motorcycle-class/

URL;VALUE=URI:https://southernthunderhog.com/wpsthd/rsvpmaker/robert-simmons-be-the-boss-of-your-motorcycle-class/

SUMMARY:Robert Simmons - Be the Boss of Your Motorcycle Class

DTSTART:20231014T130000Z

ORGANIZER;CN=Southern Thunder HOG:MAILTO:ballwm@southernthunderhog.com

END:VEVENT

END:VCALENDAR

