BEGIN:VCALENDAR

VERSION:2.0

PRODID:-//hacksw/handcal//NONSGML v1.0//EN

CALSCALE:GREGORIAN

BEGIN:VEVENT

DTEND:20231007T213000Z

UID:20231007T140000Z-3831@southernthunderhog.com

DTSTAMP:20260423T123047Z

DESCRIPTION:Event info: https://southernthunderhog.com/wpsthd/rsvpmaker/rid
	e-to-the-outpost-3/

URL;VALUE=URI:https://southernthunderhog.com/wpsthd/rsvpmaker/ride-to-the-outpost-3/

SUMMARY:Ride to the Outpost

DTSTART:20231007T140000Z

ORGANIZER;CN=Southern Thunder HOG:MAILTO:ballwm@southernthunderhog.com

END:VEVENT

END:VCALENDAR

