BEGIN:VCALENDAR

VERSION:2.0

PRODID:-//hacksw/handcal//NONSGML v1.0//EN

CALSCALE:GREGORIAN

BEGIN:VEVENT

DTEND:20231118T143000Z

UID:20231118T133000Z-3834@southernthunderhog.com

DTSTAMP:20260423T102451Z

DESCRIPTION:Event info: https://southernthunderhog.com/wpsthd/rsvpmaker/rid
	e-to-strawberrys-bbq-2/

URL;VALUE=URI:https://southernthunderhog.com/wpsthd/rsvpmaker/ride-to-strawberrys-bbq-2/

SUMMARY:Ride to Strawberry's BBQ

DTSTART:20231118T133000Z

ORGANIZER;CN=Southern Thunder HOG:MAILTO:ballwm@southernthunderhog.com

END:VEVENT

END:VCALENDAR

