BEGIN:VCALENDAR

VERSION:2.0

PRODID:-//hacksw/handcal//NONSGML v1.0//EN

CALSCALE:GREGORIAN

BEGIN:VEVENT

DTEND:20230723T220000Z

UID:20230723T160000Z-3689@southernthunderhog.com

DTSTAMP:20260423T180337Z

DESCRIPTION:Event info: https://southernthunderhog.com/wpsthd/rsvpmaker/rid
	e-to-st-francis-park-in-west-helena-ar/

URL;VALUE=URI:https://southernthunderhog.com/wpsthd/rsvpmaker/ride-to-st-francis-park-in-west-helena-ar/

SUMMARY:Ride to St. Francis Park in West Helena, AR

DTSTART:20230723T160000Z

ORGANIZER;CN=Southern Thunder HOG:MAILTO:ballwm@southernthunderhog.com

END:VEVENT

END:VCALENDAR

