BEGIN:VCALENDAR

VERSION:2.0

PRODID:-//hacksw/handcal//NONSGML v1.0//EN

CALSCALE:GREGORIAN

BEGIN:VEVENT

DTEND:20230702T220000Z

UID:20230702T160000Z-3661@southernthunderhog.com

DTSTAMP:20260422T182147Z

DESCRIPTION:Event info: https://southernthunderhog.com/wpsthd/rsvpmaker/rid
	e-to-shelby-forest-and-4th-of-july-picnic/

URL;VALUE=URI:https://southernthunderhog.com/wpsthd/rsvpmaker/ride-to-shelby-forest-and-4th-of-july-picnic/

SUMMARY:4th of July Picnic

DTSTART:20230702T160000Z

ORGANIZER;CN=Southern Thunder HOG:MAILTO:ballwm@southernthunderhog.com

END:VEVENT

END:VCALENDAR

