BEGIN:VCALENDAR

VERSION:2.0

PRODID:-//hacksw/handcal//NONSGML v1.0//EN

CALSCALE:GREGORIAN

BEGIN:VEVENT

DTEND:20200321T170000Z

UID:20200321T160000Z-1773@southernthunderhog.com

DTSTAMP:20260423T233938Z

DESCRIPTION:Event info: https://southernthunderhog.com/wpsthd/rsvpmaker/rid
	e-to-phillips-grocery-in-holly-springs/

URL;VALUE=URI:https://southernthunderhog.com/wpsthd/rsvpmaker/ride-to-phillips-grocery-in-holly-springs/

SUMMARY:Ride to Phillips Grocery in Holly Springs

DTSTART:20200321T160000Z

ORGANIZER;CN=Southern Thunder HOG:MAILTO:ballwm@southernthunderhog.com

END:VEVENT

END:VCALENDAR

