BEGIN:VCALENDAR

VERSION:2.0

PRODID:-//hacksw/handcal//NONSGML v1.0//EN

CALSCALE:GREGORIAN

BEGIN:VEVENT

DTEND:20231009T140000Z

UID:20231007T140000Z-3821@southernthunderhog.com

DTSTAMP:20260423T122844Z

DESCRIPTION:Event info: https://southernthunderhog.com/wpsthd/rsvpmaker/rid
	e-to-natachez-ms-columbus-day/

URL;VALUE=URI:https://southernthunderhog.com/wpsthd/rsvpmaker/ride-to-natachez-ms-columbus-day/

SUMMARY:CANCELLED/POSTPONED: Ride to Natachez MS (Columbus Day)

DTSTART:20231007T140000Z

ORGANIZER;CN=Southern Thunder HOG:MAILTO:ballwm@southernthunderhog.com

END:VEVENT

END:VCALENDAR

