BEGIN:VCALENDAR

VERSION:2.0

PRODID:-//hacksw/handcal//NONSGML v1.0//EN

CALSCALE:GREGORIAN

BEGIN:VEVENT

DTEND:20210328T010000Z

UID:20210327T133000Z-2169@southernthunderhog.com

DTSTAMP:20260423T213603Z

DESCRIPTION:Event info: https://southernthunderhog.com/wpsthd/rsvpmaker/rid
	e-to-hagys-catfish-hotel-restaurant/

URL;VALUE=URI:https://southernthunderhog.com/wpsthd/rsvpmaker/ride-to-hagys-catfish-hotel-restaurant/

SUMMARY:*** CANCELLED***Ride to Hagy's Catfish Hotel Restaurant

DTSTART:20210327T133000Z

ORGANIZER;CN=Southern Thunder HOG:MAILTO:ballwm@southernthunderhog.com

END:VEVENT

END:VCALENDAR

