BEGIN:VCALENDAR

VERSION:2.0

PRODID:-//hacksw/handcal//NONSGML v1.0//EN

CALSCALE:GREGORIAN

BEGIN:VEVENT

DTEND:20231014T213000Z

UID:20231014T143000Z-3828@southernthunderhog.com

DTSTAMP:20260423T122358Z

DESCRIPTION:Event info: https://southernthunderhog.com/wpsthd/rsvpmaker/rid
	e-to-ground-zero-4/

URL;VALUE=URI:https://southernthunderhog.com/wpsthd/rsvpmaker/ride-to-ground-zero-4/

SUMMARY:Ride to Ground Zero

DTSTART:20231014T143000Z

ORGANIZER;CN=Southern Thunder HOG:MAILTO:ballwm@southernthunderhog.com

END:VEVENT

END:VCALENDAR

