BEGIN:VCALENDAR

VERSION:2.0

PRODID:-//hacksw/handcal//NONSGML v1.0//EN

CALSCALE:GREGORIAN

BEGIN:VEVENT

DTEND:20230819T220000Z

UID:20230819T140000Z-3695@southernthunderhog.com

DTSTAMP:20260423T161155Z

DESCRIPTION:Event info: https://southernthunderhog.com/wpsthd/rsvpmaker/rid
	e-to-ground-zero-3/

URL;VALUE=URI:https://southernthunderhog.com/wpsthd/rsvpmaker/ride-to-ground-zero-3/

SUMMARY:Ride to Ground Zero

DTSTART:20230819T140000Z

ORGANIZER;CN=Southern Thunder HOG:MAILTO:ballwm@southernthunderhog.com

END:VEVENT

END:VCALENDAR

