BEGIN:VCALENDAR

VERSION:2.0

PRODID:-//hacksw/handcal//NONSGML v1.0//EN

CALSCALE:GREGORIAN

BEGIN:VEVENT

DTEND:20230917T223000Z

UID:20230917T143000Z-3745@southernthunderhog.com

DTSTAMP:20260423T141717Z

DESCRIPTION:Event info: https://southernthunderhog.com/wpsthd/rsvpmaker/rid
	e-to-grenada-ms-333-restuarant/

URL;VALUE=URI:https://southernthunderhog.com/wpsthd/rsvpmaker/ride-to-grenada-ms-333-restuarant/

SUMMARY:Ride to Grenada MS - 333 Restuarant

DTSTART:20230917T143000Z

ORGANIZER;CN=Southern Thunder HOG:MAILTO:ballwm@southernthunderhog.com

END:VEVENT

END:VCALENDAR

