BEGIN:VCALENDAR

VERSION:2.0

PRODID:-//hacksw/handcal//NONSGML v1.0//EN

CALSCALE:GREGORIAN

BEGIN:VEVENT

DTEND:20221113T000000Z

UID:20221112T140000Z-3249@southernthunderhog.com

DTSTAMP:20260422T174810Z

DESCRIPTION:Event info: https://southernthunderhog.com/wpsthd/rsvpmaker/rid
	e-to-full-throttle/

URL;VALUE=URI:https://southernthunderhog.com/wpsthd/rsvpmaker/ride-to-full-throttle/

SUMMARY:RIDE CANCELLED-Ride to Full Throttle

DTSTART:20221112T140000Z

ORGANIZER;CN=Southern Thunder HOG:MAILTO:ballwm@southernthunderhog.com

END:VEVENT

END:VCALENDAR

