BEGIN:VCALENDAR

VERSION:2.0

PRODID:-//hacksw/handcal//NONSGML v1.0//EN

CALSCALE:GREGORIAN

BEGIN:VEVENT

DTEND:20230923T210000Z

UID:20230923T130000Z-3743@southernthunderhog.com

DTSTAMP:20260423T142409Z

DESCRIPTION:Event info: https://southernthunderhog.com/wpsthd/rsvpmaker/rid
	e-to-council-house-restuarant/

URL;VALUE=URI:https://southernthunderhog.com/wpsthd/rsvpmaker/ride-to-council-house-restuarant/

SUMMARY:Ride to Council House Restuarant

DTSTART:20230923T130000Z

ORGANIZER;CN=Southern Thunder HOG:MAILTO:ballwm@southernthunderhog.com

END:VEVENT

END:VCALENDAR

