BEGIN:VCALENDAR

VERSION:2.0

PRODID:-//hacksw/handcal//NONSGML v1.0//EN

CALSCALE:GREGORIAN

BEGIN:VEVENT

DTEND:20200314T150000Z

UID:20200314T140000Z-1805@southernthunderhog.com

DTSTAMP:20260423T233733Z

DESCRIPTION:Event info: https://southernthunderhog.com/wpsthd/rsvpmaker/rid
	e-through-shelby-forest/

URL;VALUE=URI:https://southernthunderhog.com/wpsthd/rsvpmaker/ride-through-shelby-forest/

SUMMARY:Ride through Shelby Forest

DTSTART:20200314T140000Z

ORGANIZER;CN=Southern Thunder HOG:MAILTO:ballwm@southernthunderhog.com

END:VEVENT

END:VCALENDAR

