BEGIN:VCALENDAR

VERSION:2.0

PRODID:-//hacksw/handcal//NONSGML v1.0//EN

CALSCALE:GREGORIAN

BEGIN:VEVENT

DTEND:20240206T013000Z

UID:20240206T003000Z-4256@southernthunderhog.com

DTSTAMP:20260422T150337Z

DESCRIPTION:Event info: https://southernthunderhog.com/wpsthd/rsvpmaker/pla
	nning-meeting/

URL;VALUE=URI:https://southernthunderhog.com/wpsthd/rsvpmaker/planning-meeting/

SUMMARY:Planning Meeting

DTSTART:20240206T003000Z

ORGANIZER;CN=Southern Thunder HOG:MAILTO:ballwm@southernthunderhog.com

END:VEVENT

END:VCALENDAR

