BEGIN:VCALENDAR

VERSION:2.0

PRODID:-//hacksw/handcal//NONSGML v1.0//EN

CALSCALE:GREGORIAN

BEGIN:VEVENT

DTEND:20231125T200000Z

UID:20231125T180000Z-4041@southernthunderhog.com

DTSTAMP:20260422T190949Z

DESCRIPTION:Event info: https://southernthunderhog.com/wpsthd/rsvpmaker/pic
	tures-with-santa/

URL;VALUE=URI:https://southernthunderhog.com/wpsthd/rsvpmaker/pictures-with-santa/

SUMMARY:Pictures with Santa

DTSTART:20231125T180000Z

ORGANIZER;CN=Southern Thunder HOG:MAILTO:ballwm@southernthunderhog.com

END:VEVENT

END:VCALENDAR

