BEGIN:VCALENDAR

VERSION:2.0

PRODID:-//hacksw/handcal//NONSGML v1.0//EN

CALSCALE:GREGORIAN

BEGIN:VEVENT

DTEND:20231011T013000Z

UID:20231010T233000Z-3866@southernthunderhog.com

DTSTAMP:20260422T190747Z

DESCRIPTION:Event info: https://southernthunderhog.com/wpsthd/rsvpmaker/oct
	ober-dinner-ride/

URL;VALUE=URI:https://southernthunderhog.com/wpsthd/rsvpmaker/october-dinner-ride/

SUMMARY:October Dinner Ride

DTSTART:20231010T233000Z

ORGANIZER;CN=Southern Thunder HOG:MAILTO:ballwm@southernthunderhog.com

END:VEVENT

END:VCALENDAR

