BEGIN:VCALENDAR

VERSION:2.0

PRODID:-//hacksw/handcal//NONSGML v1.0//EN

CALSCALE:GREGORIAN

BEGIN:VEVENT

DTEND:20230101T213000Z

UID:20230101T153000Z-3325@southernthunderhog.com

DTSTAMP:20260422T164018Z

DESCRIPTION:Event info: https://southernthunderhog.com/wpsthd/rsvpmaker/new
	-years-day-annual-ride/

URL;VALUE=URI:https://southernthunderhog.com/wpsthd/rsvpmaker/new-years-day-annual-ride/

SUMMARY:Ski Freeze Ride

DTSTART:20230101T153000Z

ORGANIZER;CN=Southern Thunder HOG:MAILTO:ballwm@southernthunderhog.com

END:VEVENT

END:VCALENDAR

