BEGIN:VCALENDAR

VERSION:2.0

PRODID:-//hacksw/handcal//NONSGML v1.0//EN

CALSCALE:GREGORIAN

BEGIN:VEVENT

DTEND:20200524T150000Z

UID:20200524T140000Z-1820@southernthunderhog.com

DTSTAMP:20260423T233607Z

DESCRIPTION:Event info: https://southernthunderhog.com/wpsthd/rsvpmaker/mem
	orial-weekend-2020-2/

URL;VALUE=URI:https://southernthunderhog.com/wpsthd/rsvpmaker/memorial-weekend-2020-2/

SUMMARY:Memorial Weekend 2020

DTSTART:20200524T140000Z

ORGANIZER;CN=Southern Thunder HOG:MAILTO:ballwm@southernthunderhog.com

END:VEVENT

END:VCALENDAR

